BEGIN:VCALENDAR
METHOD:PUBLISH
PRODID:Data::ICal 0.13
VERSION:2.0
BEGIN:VEVENT
DESCRIPTION:Source: R1 / R1
DTSTAMP:20260424T171326Z
DTSTART;TZID=America/New_York:20260221T170600
DTEND;TZID=America/New_York:20260221T170600
LOCATION:
SUMMARY:Miguel &#8211; CAOS TOUR
UID:5818271-1771693560-1771693560
END:VEVENT
END:VCALENDAR
